BEGIN:VCALENDAR
VERSION:2.0
PRODID:-//Verein der Gartenfreunde Mooranger e. V. Quedlinburg - ECPv6.15.17.1//NONSGML v1.0//EN
CALSCALE:GREGORIAN
METHOD:PUBLISH
X-WR-CALNAME:Verein der Gartenfreunde Mooranger e. V. Quedlinburg
X-ORIGINAL-URL:https://mooranger.de
X-WR-CALDESC:Veranstaltungen für Verein der Gartenfreunde Mooranger e. V. Quedlinburg
REFRESH-INTERVAL;VALUE=DURATION:PT1H
X-Robots-Tag:noindex
X-PUBLISHED-TTL:PT1H
BEGIN:VTIMEZONE
TZID:Europe/Berlin
BEGIN:DAYLIGHT
TZOFFSETFROM:+0100
TZOFFSETTO:+0200
TZNAME:CEST
DTSTART:20200329T010000
END:DAYLIGHT
BEGIN:STANDARD
TZOFFSETFROM:+0200
TZOFFSETTO:+0100
TZNAME:CET
DTSTART:20201025T010000
END:STANDARD
BEGIN:DAYLIGHT
TZOFFSETFROM:+0100
TZOFFSETTO:+0200
TZNAME:CEST
DTSTART:20210328T010000
END:DAYLIGHT
BEGIN:STANDARD
TZOFFSETFROM:+0200
TZOFFSETTO:+0100
TZNAME:CET
DTSTART:20211031T010000
END:STANDARD
BEGIN:DAYLIGHT
TZOFFSETFROM:+0100
TZOFFSETTO:+0200
TZNAME:CEST
DTSTART:20220327T010000
END:DAYLIGHT
BEGIN:STANDARD
TZOFFSETFROM:+0200
TZOFFSETTO:+0100
TZNAME:CET
DTSTART:20221030T010000
END:STANDARD
END:VTIMEZONE
BEGIN:VEVENT
DTSTART;VALUE=DATE:20210327
DTEND;VALUE=DATE:20210328
DTSTAMP:20260423T101119
CREATED:20210319T191943Z
LAST-MODIFIED:20210319T191943Z
UID:294-1616803200-1616889599@mooranger.de
SUMMARY:Vorstandssitzung
DESCRIPTION:Aushang Termine Sitzungen
URL:https://mooranger.de/event/vorstandssitzung/
LOCATION:Vereinshaus
END:VEVENT
BEGIN:VEVENT
DTSTART;TZID=Europe/Berlin:20210327T090000
DTEND;TZID=Europe/Berlin:20210327T120000
DTSTAMP:20260423T101119
CREATED:20210319T191344Z
LAST-MODIFIED:20210319T191344Z
UID:279-1616835600-1616846400@mooranger.de
SUMMARY:Arbeitseinsatz
DESCRIPTION:Aushang Arbeitseinsätze
URL:https://mooranger.de/event/arbeitseinsatz-2/
LOCATION:Vereinshaus
END:VEVENT
END:VCALENDAR