BEGIN:VCALENDAR
VERSION:2.0
PRODID:-//Verein der Gartenfreunde Mooranger e. V. Quedlinburg - ECPv6.15.17.1//NONSGML v1.0//EN
CALSCALE:GREGORIAN
METHOD:PUBLISH
X-ORIGINAL-URL:https://mooranger.de
X-WR-CALDESC:Veranstaltungen für Verein der Gartenfreunde Mooranger e. V. Quedlinburg
REFRESH-INTERVAL;VALUE=DURATION:PT1H
X-Robots-Tag:noindex
X-PUBLISHED-TTL:PT1H
BEGIN:VTIMEZONE
TZID:Europe/Berlin
BEGIN:DAYLIGHT
TZOFFSETFROM:+0100
TZOFFSETTO:+0200
TZNAME:CEST
DTSTART:20200329T010000
END:DAYLIGHT
BEGIN:STANDARD
TZOFFSETFROM:+0200
TZOFFSETTO:+0100
TZNAME:CET
DTSTART:20201025T010000
END:STANDARD
BEGIN:DAYLIGHT
TZOFFSETFROM:+0100
TZOFFSETTO:+0200
TZNAME:CEST
DTSTART:20210328T010000
END:DAYLIGHT
BEGIN:STANDARD
TZOFFSETFROM:+0200
TZOFFSETTO:+0100
TZNAME:CET
DTSTART:20211031T010000
END:STANDARD
BEGIN:DAYLIGHT
TZOFFSETFROM:+0100
TZOFFSETTO:+0200
TZNAME:CEST
DTSTART:20220327T010000
END:DAYLIGHT
BEGIN:STANDARD
TZOFFSETFROM:+0200
TZOFFSETTO:+0100
TZNAME:CET
DTSTART:20221030T010000
END:STANDARD
END:VTIMEZONE
BEGIN:VEVENT
DTSTART;VALUE=DATE:20211120
DTEND;VALUE=DATE:20211121
DTSTAMP:20260422T235010
CREATED:20210319T192409Z
LAST-MODIFIED:20210319T192409Z
UID:311-1637366400-1637452799@mooranger.de
SUMMARY:Vorstandssitzung
DESCRIPTION:Aushang Termine Sitzungen
URL:https://mooranger.de/event/vorstandssitzung-8/
LOCATION:Vereinshaus
END:VEVENT
END:VCALENDAR