BEGIN:VCALENDAR
VERSION:2.0
PRODID:-//Verein der Gartenfreunde Mooranger e. V. Quedlinburg - ECPv6.15.17.1//NONSGML v1.0//EN
CALSCALE:GREGORIAN
METHOD:PUBLISH
X-ORIGINAL-URL:https://mooranger.de
X-WR-CALDESC:Veranstaltungen für Verein der Gartenfreunde Mooranger e. V. Quedlinburg
REFRESH-INTERVAL;VALUE=DURATION:PT1H
X-Robots-Tag:noindex
X-PUBLISHED-TTL:PT1H
BEGIN:VTIMEZONE
TZID:Europe/Berlin
BEGIN:DAYLIGHT
TZOFFSETFROM:+0100
TZOFFSETTO:+0200
TZNAME:CEST
DTSTART:20220327T010000
END:DAYLIGHT
BEGIN:STANDARD
TZOFFSETFROM:+0200
TZOFFSETTO:+0100
TZNAME:CET
DTSTART:20221030T010000
END:STANDARD
BEGIN:DAYLIGHT
TZOFFSETFROM:+0100
TZOFFSETTO:+0200
TZNAME:CEST
DTSTART:20230326T010000
END:DAYLIGHT
BEGIN:STANDARD
TZOFFSETFROM:+0200
TZOFFSETTO:+0100
TZNAME:CET
DTSTART:20231029T010000
END:STANDARD
BEGIN:DAYLIGHT
TZOFFSETFROM:+0100
TZOFFSETTO:+0200
TZNAME:CEST
DTSTART:20240331T010000
END:DAYLIGHT
BEGIN:STANDARD
TZOFFSETFROM:+0200
TZOFFSETTO:+0100
TZNAME:CET
DTSTART:20241027T010000
END:STANDARD
END:VTIMEZONE
BEGIN:VEVENT
DTSTART;TZID=Europe/Berlin:20230729T140000
DTEND;TZID=Europe/Berlin:20230729T233000
DTSTAMP:20260422T004148
CREATED:20230725T083044Z
LAST-MODIFIED:20230725T083044Z
UID:369-1690639200-1690673400@mooranger.de
SUMMARY:Sommerfest
DESCRIPTION:Plakat-Sommerfest
URL:https://mooranger.de/event/sommerfest/
LOCATION:Vereinswies
END:VEVENT
END:VCALENDAR